BEGIN:VCALENDAR
VERSION:2.0
PRODID:-//Gobierno de Mendoza - ECPv6.15.17.1//NONSGML v1.0//EN
CALSCALE:GREGORIAN
METHOD:PUBLISH
X-WR-CALNAME:Gobierno de Mendoza
X-ORIGINAL-URL:https://www.mendoza.gob.ar
X-WR-CALDESC:Eventos para Gobierno de Mendoza
REFRESH-INTERVAL;VALUE=DURATION:PT1H
X-Robots-Tag:noindex
X-PUBLISHED-TTL:PT1H
BEGIN:VTIMEZONE
TZID:America/Argentina/Mendoza
BEGIN:STANDARD
TZOFFSETFROM:-0300
TZOFFSETTO:-0300
TZNAME:-03
DTSTART:20250101T000000
END:STANDARD
END:VTIMEZONE
BEGIN:VEVENT
DTSTART;VALUE=DATE:20260107
DTEND;VALUE=DATE:20260108
DTSTAMP:20260422T232449
CREATED:20251125T131142Z
LAST-MODIFIED:20251125T131203Z
UID:510221-1767744000-1767830399@www.mendoza.gob.ar
SUMMARY:Vendimia departamental de Malargüe
DESCRIPTION:Predio Raíces Malargüinas
URL:https://www.mendoza.gob.ar/evento/vendimia-departamental-de-malargue/
END:VEVENT
BEGIN:VEVENT
DTSTART;VALUE=DATE:20260107
DTEND;VALUE=DATE:20260112
DTSTAMP:20260422T232449
CREATED:20251218T124956Z
LAST-MODIFIED:20260109T135059Z
UID:510618-1767744000-1768175999@www.mendoza.gob.ar
SUMMARY:Fiesta Nacional del Chivo
DESCRIPTION:7 al 11 de enero. Una celebración que pone en valor la identidad\, la tradición y la cultura malargüina.
URL:https://www.mendoza.gob.ar/evento/fiesta-nacional-del-chivo/
END:VEVENT
BEGIN:VEVENT
DTSTART;VALUE=DATE:20260110
DTEND;VALUE=DATE:20260112
DTSTAMP:20260422T232449
CREATED:20251218T132738Z
LAST-MODIFIED:20260109T135146Z
UID:510624-1768003200-1768175999@www.mendoza.gob.ar
SUMMARY:Festival del Melón y la Sandía
DESCRIPTION:Lavalle
URL:https://www.mendoza.gob.ar/evento/festival-del-melon-y-la-sandia/
END:VEVENT
BEGIN:VEVENT
DTSTART;VALUE=DATE:20260116
DTEND;VALUE=DATE:20260120
DTSTAMP:20260422T232449
CREATED:20251218T133718Z
LAST-MODIFIED:20260115T124905Z
UID:510629-1768521600-1768867199@www.mendoza.gob.ar
SUMMARY:Encuentro de las Naciones
DESCRIPTION:Junín
URL:https://www.mendoza.gob.ar/evento/encuentro-de-las-naciones/
END:VEVENT
BEGIN:VEVENT
DTSTART;TZID=America/Argentina/Mendoza:20260116T220000
DTEND;TZID=America/Argentina/Mendoza:20260116T220000
DTSTAMP:20260422T232449
CREATED:20260115T155648Z
LAST-MODIFIED:20260115T155853Z
UID:510796-1768600800-1768600800@www.mendoza.gob.ar
SUMMARY:Comedia de verano
DESCRIPTION:Noche de Stand Up y Aire Acondicionado! Vení a combatir el calor a puras risas con Daniel Aye y Régu \nReservas al WhatsApp: 2612 535410 \nBlend Sushi Bar (San Lorenzo 348\, Ciudad)
URL:https://www.mendoza.gob.ar/evento/comedia-de-verano/
END:VEVENT
BEGIN:VEVENT
DTSTART;VALUE=DATE:20260117
DTEND;VALUE=DATE:20260118
DTSTAMP:20260422T232449
CREATED:20251125T131614Z
LAST-MODIFIED:20251125T131614Z
UID:510229-1768608000-1768694399@www.mendoza.gob.ar
SUMMARY:Vendimia departamental de Junín
DESCRIPTION:Parque Dueño del Sol
URL:https://www.mendoza.gob.ar/evento/vendimia-departamental-de-junin/
END:VEVENT
BEGIN:VEVENT
DTSTART;VALUE=DATE:20260119
DTEND;VALUE=DATE:20260121
DTSTAMP:20260422T232449
CREATED:20260113T153644Z
LAST-MODIFIED:20260113T153852Z
UID:510784-1768780800-1768953599@www.mendoza.gob.ar
SUMMARY:Vino Blues
DESCRIPTION:Lago del Parque General San Martín
URL:https://www.mendoza.gob.ar/evento/vino-blues/
END:VEVENT
BEGIN:VEVENT
DTSTART;VALUE=DATE:20260121
DTEND;VALUE=DATE:20260124
DTSTAMP:20260422T232449
CREATED:20260107T155102Z
LAST-MODIFIED:20260109T140617Z
UID:510777-1768953600-1769212799@www.mendoza.gob.ar
SUMMARY:Jazz en el Lago del Parque
DESCRIPTION:Parque General San Martín
URL:https://www.mendoza.gob.ar/evento/jazz-en-el-lago-del-parque/
END:VEVENT
BEGIN:VEVENT
DTSTART;VALUE=DATE:20260124
DTEND;VALUE=DATE:20260125
DTSTAMP:20260422T232449
CREATED:20251125T131703Z
LAST-MODIFIED:20251125T131703Z
UID:510231-1769212800-1769299199@www.mendoza.gob.ar
SUMMARY:Vendimia departamental de San Rafael
DESCRIPTION:Teatro Griego Chacho Santa Cruz
URL:https://www.mendoza.gob.ar/evento/vendimia-departamental-de-san-rafael/
END:VEVENT
BEGIN:VEVENT
DTSTART;VALUE=DATE:20260124
DTEND;VALUE=DATE:20260125
DTSTAMP:20260422T232449
CREATED:20260113T154918Z
LAST-MODIFIED:20260113T155233Z
UID:510787-1769212800-1769299199@www.mendoza.gob.ar
SUMMARY:Maridaje de libros y vinos
DESCRIPTION:Entrada gratuita con previa inscripción aquí \nPlanta Uno | Ceretti 244\, Godoy Cruz\, Mendoza
URL:https://www.mendoza.gob.ar/evento/maridaje-de-libros-y-vinos/
END:VEVENT
BEGIN:VEVENT
DTSTART;VALUE=DATE:20260124
DTEND;VALUE=DATE:20260126
DTSTAMP:20260422T232449
CREATED:20260116T133437Z
LAST-MODIFIED:20260116T133634Z
UID:510798-1769212800-1769385599@www.mendoza.gob.ar
SUMMARY:Americanto
DESCRIPTION:21H. Música \nEntrada gratuita \nParque General San Martín (Ciudad de Mendoza)
URL:https://www.mendoza.gob.ar/evento/americanto/
END:VEVENT
BEGIN:VEVENT
DTSTART;VALUE=DATE:20260129
DTEND;VALUE=DATE:20260130
DTSTAMP:20260422T232449
CREATED:20251125T131753Z
LAST-MODIFIED:20251125T132005Z
UID:510233-1769644800-1769731199@www.mendoza.gob.ar
SUMMARY:Vendimia departamental de Rivadavia
DESCRIPTION:Polideportivo Municipal
URL:https://www.mendoza.gob.ar/evento/vendimia-departamental-de-rivadavia/
END:VEVENT
BEGIN:VEVENT
DTSTART;VALUE=DATE:20260130
DTEND;VALUE=DATE:20260131
DTSTAMP:20260422T232449
CREATED:20251125T132101Z
LAST-MODIFIED:20251125T132101Z
UID:510235-1769731200-1769817599@www.mendoza.gob.ar
SUMMARY:Vendimia departamental de Las Heras
DESCRIPTION:
URL:https://www.mendoza.gob.ar/evento/vendimia-departamental-de-las-heras/
END:VEVENT
BEGIN:VEVENT
DTSTART;VALUE=DATE:20260130
DTEND;VALUE=DATE:20260131
DTSTAMP:20260422T232449
CREATED:20251125T132150Z
LAST-MODIFIED:20251125T132150Z
UID:510238-1769731200-1769817599@www.mendoza.gob.ar
SUMMARY:Vendimia departamental de Tunuyán
DESCRIPTION:Anfiteatro Municipal
URL:https://www.mendoza.gob.ar/evento/vendimia-departamental-de-tunuyan/
END:VEVENT
BEGIN:VEVENT
DTSTART;VALUE=DATE:20260131
DTEND;VALUE=DATE:20260201
DTSTAMP:20260422T232449
CREATED:20251125T132352Z
LAST-MODIFIED:20251125T132352Z
UID:510240-1769817600-1769903999@www.mendoza.gob.ar
SUMMARY:Vendimia departamental de General Alvear
DESCRIPTION:Plaza Departamental Carlos María Alvear
URL:https://www.mendoza.gob.ar/evento/vendimia-departamental-de-general-alvear/
END:VEVENT
BEGIN:VEVENT
DTSTART;VALUE=DATE:20260131
DTEND;VALUE=DATE:20260201
DTSTAMP:20260422T232449
CREATED:20251125T132423Z
LAST-MODIFIED:20251125T132423Z
UID:510243-1769817600-1769903999@www.mendoza.gob.ar
SUMMARY:Vendimia departamental de Maipú
DESCRIPTION:
URL:https://www.mendoza.gob.ar/evento/vendimia-departamental-de-maipu/
END:VEVENT
END:VCALENDAR