BEGIN:VCALENDAR
VERSION:2.0
PRODID:-//Gobierno de Mendoza - ECPv6.15.17.1//NONSGML v1.0//EN
CALSCALE:GREGORIAN
METHOD:PUBLISH
X-ORIGINAL-URL:https://www.mendoza.gob.ar
X-WR-CALDESC:Eventos para Gobierno de Mendoza
REFRESH-INTERVAL;VALUE=DURATION:PT1H
X-Robots-Tag:noindex
X-PUBLISHED-TTL:PT1H
BEGIN:VTIMEZONE
TZID:America/Argentina/Mendoza
BEGIN:STANDARD
TZOFFSETFROM:-0300
TZOFFSETTO:-0300
TZNAME:-03
DTSTART:20250101T000000
END:STANDARD
END:VTIMEZONE
BEGIN:VEVENT
DTSTART;VALUE=DATE:20260307
DTEND;VALUE=DATE:20260308
DTSTAMP:20260422T220053
CREATED:20251211T130438Z
LAST-MODIFIED:20251211T130438Z
UID:510568-1772841600-1772927999@www.mendoza.gob.ar
SUMMARY:Carrusel
DESCRIPTION:
URL:https://www.mendoza.gob.ar/evento/carrusel/
END:VEVENT
BEGIN:VEVENT
DTSTART;VALUE=DATE:20260308
DTEND;VALUE=DATE:20260309
DTSTAMP:20260422T220053
CREATED:20251211T130513Z
LAST-MODIFIED:20260307T150004Z
UID:510570-1772928000-1773014399@www.mendoza.gob.ar
SUMMARY:Acto Central (reprogramado)
DESCRIPTION:
URL:https://www.mendoza.gob.ar/evento/acto-central/
END:VEVENT
BEGIN:VEVENT
DTSTART;VALUE=DATE:20260315
DTEND;VALUE=DATE:20260316
DTSTAMP:20260422T220053
CREATED:20251211T130549Z
LAST-MODIFIED:20260311T123537Z
UID:510572-1773532800-1773619199@www.mendoza.gob.ar
SUMMARY:Repetición Acto Central (reprogramado)
DESCRIPTION:
URL:https://www.mendoza.gob.ar/evento/repeticion-acto-central/
END:VEVENT
BEGIN:VEVENT
DTSTART;VALUE=DATE:20260317
DTEND;VALUE=DATE:20260318
DTSTAMP:20260422T220053
CREATED:20251211T130627Z
LAST-MODIFIED:20251211T130627Z
UID:510575-1773705600-1773791999@www.mendoza.gob.ar
SUMMARY:Inauguración de la muestra de Bio Futuro por los 90 años en el ECA
DESCRIPTION:
URL:https://www.mendoza.gob.ar/evento/inauguracion-de-la-muestra-de-bio-futuro-por-los-90-anos-en-el-eca/
END:VEVENT
BEGIN:VEVENT
DTSTART;VALUE=DATE:20260321
DTEND;VALUE=DATE:20260322
DTSTAMP:20260422T220053
CREATED:20251211T130711Z
LAST-MODIFIED:20251211T130711Z
UID:510577-1774051200-1774137599@www.mendoza.gob.ar
SUMMARY:Fiesta provincial del Canto y la Melesca en Junín
DESCRIPTION:
URL:https://www.mendoza.gob.ar/evento/fiesta-provincial-del-canto-y-la-melesca-en-junin/
END:VEVENT
BEGIN:VEVENT
DTSTART;VALUE=DATE:20260328
DTEND;VALUE=DATE:20260329
DTSTAMP:20260422T220053
CREATED:20251211T130951Z
LAST-MODIFIED:20251211T130951Z
UID:510579-1774656000-1774742399@www.mendoza.gob.ar
SUMMARY:Wine Rock
DESCRIPTION:
URL:https://www.mendoza.gob.ar/evento/wine-rock/
END:VEVENT
END:VCALENDAR