BEGIN:VCALENDAR
VERSION:2.0
PRODID:-//Gobierno de Mendoza - ECPv6.15.17.1//NONSGML v1.0//EN
CALSCALE:GREGORIAN
METHOD:PUBLISH
X-ORIGINAL-URL:https://www.mendoza.gob.ar
X-WR-CALDESC:Eventos para Gobierno de Mendoza
REFRESH-INTERVAL;VALUE=DURATION:PT1H
X-Robots-Tag:noindex
X-PUBLISHED-TTL:PT1H
BEGIN:VTIMEZONE
TZID:America/Argentina/Mendoza
BEGIN:STANDARD
TZOFFSETFROM:-0300
TZOFFSETTO:-0300
TZNAME:-03
DTSTART:20250101T000000
END:STANDARD
END:VTIMEZONE
BEGIN:VEVENT
DTSTART;VALUE=DATE:20260203
DTEND;VALUE=DATE:20260224
DTSTAMP:20260423T010213
CREATED:20260203T125005Z
LAST-MODIFIED:20260224T122704Z
UID:511036-1770076800-1771891199@www.mendoza.gob.ar
SUMMARY:Vendimia en el Fader
DESCRIPTION:Arte. Muestra Vendimia en el Fader \nConformada por más de diez obras\, la propuesta ofrece un recorrido por diversas expresiones y técnicas artísticas\, entre las que se destacan serigrafía\, pintura\, xilografía\, litografía y técnicas mixtas\, dando cuenta de la riqueza y diversidad del patrimonio cultural vinculado a la Vendimia. \nLa muestra estará abierta al público desde el martes 3 de febrero hasta el domingo 29 de marzo\, en los horarios habituales del museo: de martes a domingos\, incluidos los feriados\, de 10 a 18. \nEntrada gratuita. \nMuseo Provincial de Bellas Artes Emiliano Guiñazú – Casa Fader\, ubicado en Mayor Drummond\, Luján de Cuyo.
URL:https://www.mendoza.gob.ar/evento/vendimia-en-el-fader/
END:VEVENT
BEGIN:VEVENT
DTSTART;VALUE=DATE:20260213
DTEND;VALUE=DATE:20260214
DTSTAMP:20260423T010213
CREATED:20251125T132807Z
LAST-MODIFIED:20251125T132807Z
UID:510251-1770940800-1771027199@www.mendoza.gob.ar
SUMMARY:Vendimia departamental de Santa Rosa
DESCRIPTION:Parque Cultural y Recreativo Ventura Segura\, La Dormida
URL:https://www.mendoza.gob.ar/evento/vendimia-departamental-de-santa-rosa/
END:VEVENT
BEGIN:VEVENT
DTSTART;VALUE=DATE:20260214
DTEND;VALUE=DATE:20260215
DTSTAMP:20260423T010213
CREATED:20251125T132903Z
LAST-MODIFIED:20251125T132903Z
UID:510253-1771027200-1771113599@www.mendoza.gob.ar
SUMMARY:Vendimia departamental de Godoy Cruz
DESCRIPTION:Parque San Vicente
URL:https://www.mendoza.gob.ar/evento/vendimia-departamental-de-godoy-cruz/
END:VEVENT
BEGIN:VEVENT
DTSTART;VALUE=DATE:20260216
DTEND;VALUE=DATE:20260217
DTSTAMP:20260423T010213
CREATED:20251211T124336Z
LAST-MODIFIED:20251211T124336Z
UID:510530-1771200000-1771286399@www.mendoza.gob.ar
SUMMARY:Carnaval Provincial en General Alvear
DESCRIPTION:
URL:https://www.mendoza.gob.ar/evento/carnaval-provincial-en-general-alvear/
END:VEVENT
BEGIN:VEVENT
DTSTART;VALUE=DATE:20260216
DTEND;VALUE=DATE:20260217
DTSTAMP:20260423T010213
CREATED:20251211T124627Z
LAST-MODIFIED:20251211T124627Z
UID:510532-1771200000-1771286399@www.mendoza.gob.ar
SUMMARY:Carnaval en el Le Parc
DESCRIPTION:
URL:https://www.mendoza.gob.ar/evento/carnaval-en-el-le-parc/
END:VEVENT
BEGIN:VEVENT
DTSTART;VALUE=DATE:20260217
DTEND;VALUE=DATE:20260218
DTSTAMP:20260423T010213
CREATED:20251211T124700Z
LAST-MODIFIED:20251211T124700Z
UID:510534-1771286400-1771372799@www.mendoza.gob.ar
SUMMARY:Carnaval en el Le Parc
DESCRIPTION:
URL:https://www.mendoza.gob.ar/evento/carnaval-en-el-le-parc-2/
END:VEVENT
BEGIN:VEVENT
DTSTART;VALUE=DATE:20260218
DTEND;VALUE=DATE:20260219
DTSTAMP:20260423T010213
CREATED:20251211T124734Z
LAST-MODIFIED:20251211T124734Z
UID:510536-1771372800-1771459199@www.mendoza.gob.ar
SUMMARY:Emprendoteca de Industrias Creativas
DESCRIPTION:
URL:https://www.mendoza.gob.ar/evento/emprendoteca-de-industrias-creativas-3/
END:VEVENT
BEGIN:VEVENT
DTSTART;VALUE=DATE:20260220
DTEND;VALUE=DATE:20260221
DTSTAMP:20260423T010213
CREATED:20251211T124814Z
LAST-MODIFIED:20251211T124814Z
UID:510539-1771545600-1771631999@www.mendoza.gob.ar
SUMMARY:Cuyanazo
DESCRIPTION:
URL:https://www.mendoza.gob.ar/evento/cuyanazo/
END:VEVENT
BEGIN:VEVENT
DTSTART;VALUE=DATE:20260221
DTEND;VALUE=DATE:20260222
DTSTAMP:20260423T010213
CREATED:20251125T131525Z
LAST-MODIFIED:20251204T154237Z
UID:510227-1771632000-1771718399@www.mendoza.gob.ar
SUMMARY:Vendimia departamental de Lavalle
DESCRIPTION:Predio Verde del Polideportivo Municipal
URL:https://www.mendoza.gob.ar/evento/vendimia-departamental-de-lavalle/
END:VEVENT
BEGIN:VEVENT
DTSTART;VALUE=DATE:20260221
DTEND;VALUE=DATE:20260222
DTSTAMP:20260423T010213
CREATED:20260115T130812Z
LAST-MODIFIED:20260115T130812Z
UID:510794-1771632000-1771718399@www.mendoza.gob.ar
SUMMARY:Vendimia y versos: 90 años de celebrar lo que somos
DESCRIPTION:18H. Letras. La Vendimia como poema colectivo: una fiesta que\, como la poesía de Abelardo Vázquez\, nace del trabajo\, la tierra\, la espera\, el silencio y la esperanza. \nTaller literario coordinado por la profesora Natalia Orozco. Serán dos encuentros presenciales\, se entregarán certificados de participación. \nBiblioteca Pública General San Martín (Av. San Martín 1843)
URL:https://www.mendoza.gob.ar/evento/vendimia-y-versos-90-anos-de-celebrar-lo-que-somos/
END:VEVENT
BEGIN:VEVENT
DTSTART;VALUE=DATE:20260221
DTEND;VALUE=DATE:20260223
DTSTAMP:20260423T010213
CREATED:20251211T124917Z
LAST-MODIFIED:20260109T133352Z
UID:510541-1771632000-1771804799@www.mendoza.gob.ar
SUMMARY:Mercado cultural en el Le Parc
DESCRIPTION:
URL:https://www.mendoza.gob.ar/evento/mercado-cultural-en-el-le-parc/
END:VEVENT
BEGIN:VEVENT
DTSTART;VALUE=DATE:20260223
DTEND;VALUE=DATE:20260224
DTSTAMP:20260423T010213
CREATED:20251211T125134Z
LAST-MODIFIED:20251211T125134Z
UID:510543-1771804800-1771891199@www.mendoza.gob.ar
SUMMARY:Paseo Federal en Lavalle
DESCRIPTION:
URL:https://www.mendoza.gob.ar/evento/paseo-federal-en-lavalle/
END:VEVENT
BEGIN:VEVENT
DTSTART;VALUE=DATE:20260224
DTEND;VALUE=DATE:20260225
DTSTAMP:20260423T010213
CREATED:20251211T125158Z
LAST-MODIFIED:20251211T125158Z
UID:510545-1771891200-1771977599@www.mendoza.gob.ar
SUMMARY:Paseo Federal en Lavalle
DESCRIPTION:
URL:https://www.mendoza.gob.ar/evento/paseo-federal-en-lavalle-2/
END:VEVENT
BEGIN:VEVENT
DTSTART;VALUE=DATE:20260225
DTEND;VALUE=DATE:20260226
DTSTAMP:20260423T010213
CREATED:20251211T125225Z
LAST-MODIFIED:20251211T125225Z
UID:510547-1771977600-1772063999@www.mendoza.gob.ar
SUMMARY:Paseo Federal en Lavalle
DESCRIPTION:
URL:https://www.mendoza.gob.ar/evento/paseo-federal-en-lavalle-3/
END:VEVENT
BEGIN:VEVENT
DTSTART;VALUE=DATE:20260227
DTEND;VALUE=DATE:20260228
DTSTAMP:20260423T010213
CREATED:20251211T125332Z
LAST-MODIFIED:20251211T125332Z
UID:510549-1772150400-1772236799@www.mendoza.gob.ar
SUMMARY:Entrada al hotel de las Reinas departamentales
DESCRIPTION:
URL:https://www.mendoza.gob.ar/evento/entrada-al-hotel-de-las-reinas-departamentales/
END:VEVENT
BEGIN:VEVENT
DTSTART;VALUE=DATE:20260227
DTEND;VALUE=DATE:20260228
DTSTAMP:20260423T010213
CREATED:20251211T125429Z
LAST-MODIFIED:20251211T125429Z
UID:510551-1772150400-1772236799@www.mendoza.gob.ar
SUMMARY:Bendición de los Frutos
DESCRIPTION:
URL:https://www.mendoza.gob.ar/evento/bendicion-de-los-frutos/
END:VEVENT
BEGIN:VEVENT
DTSTART;VALUE=DATE:20260228
DTEND;VALUE=DATE:20260302
DTSTAMP:20260423T010213
CREATED:20251218T133558Z
LAST-MODIFIED:20260109T140325Z
UID:510627-1772236800-1772409599@www.mendoza.gob.ar
SUMMARY:Festival del Cosechador
DESCRIPTION:Lavalle
URL:https://www.mendoza.gob.ar/evento/festival-del-cosechador/
END:VEVENT
BEGIN:VEVENT
DTSTART;VALUE=DATE:20260228
DTEND;VALUE=DATE:20260301
DTSTAMP:20260423T010213
CREATED:20251211T125504Z
LAST-MODIFIED:20251211T125504Z
UID:510554-1772236800-1772323199@www.mendoza.gob.ar
SUMMARY:Dionisias Wine Fair
DESCRIPTION:
URL:https://www.mendoza.gob.ar/evento/dionisias-wine-fair/
END:VEVENT
BEGIN:VEVENT
DTSTART;VALUE=DATE:20260303
DTEND;VALUE=DATE:20260304
DTSTAMP:20260423T010213
CREATED:20251211T125708Z
LAST-MODIFIED:20251211T125708Z
UID:510556-1772496000-1772582399@www.mendoza.gob.ar
SUMMARY:Brindis de las Reinas en Gral. San Martín
DESCRIPTION:
URL:https://www.mendoza.gob.ar/evento/brindis-de-las-reinas-en-gral-san-martin/
END:VEVENT
BEGIN:VEVENT
DTSTART;VALUE=DATE:20260303
DTEND;VALUE=DATE:20260306
DTSTAMP:20260423T010213
CREATED:20260106T155638Z
LAST-MODIFIED:20260106T155638Z
UID:510770-1772496000-1772755199@www.mendoza.gob.ar
SUMMARY:40° edición de la tradicional “Festa in Piazza”
DESCRIPTION:Plaza Italia. Ciudad de Mendoza
URL:https://www.mendoza.gob.ar/evento/40-edicion-de-la-tradicional-festa-in-piazza/
END:VEVENT
BEGIN:VEVENT
DTSTART;VALUE=DATE:20260304
DTEND;VALUE=DATE:20260305
DTSTAMP:20260423T010213
CREATED:20251211T125746Z
LAST-MODIFIED:20251211T125746Z
UID:510558-1772582400-1772668799@www.mendoza.gob.ar
SUMMARY:Fiesta de la Cosecha en el Aeropuerto
DESCRIPTION:
URL:https://www.mendoza.gob.ar/evento/fiesta-de-la-cosecha-en-el-aeropuerto/
END:VEVENT
BEGIN:VEVENT
DTSTART;VALUE=DATE:20260305
DTEND;VALUE=DATE:20260306
DTSTAMP:20260423T010213
CREATED:20251211T125824Z
LAST-MODIFIED:20251211T125824Z
UID:510561-1772668800-1772755199@www.mendoza.gob.ar
SUMMARY:Homenaje a los viñateros en el Teatro Griego
DESCRIPTION:
URL:https://www.mendoza.gob.ar/evento/homenaje-a-los-vinateros-en-el-teatro-griego/
END:VEVENT
BEGIN:VEVENT
DTSTART;VALUE=DATE:20260306
DTEND;VALUE=DATE:20260307
DTSTAMP:20260423T010213
CREATED:20251211T125902Z
LAST-MODIFIED:20251211T130231Z
UID:510563-1772755200-1772841599@www.mendoza.gob.ar
SUMMARY:Desayuno real
DESCRIPTION:
URL:https://www.mendoza.gob.ar/evento/desayuno-real/
END:VEVENT
BEGIN:VEVENT
DTSTART;VALUE=DATE:20260306
DTEND;VALUE=DATE:20260307
DTSTAMP:20260423T010213
CREATED:20251211T130323Z
LAST-MODIFIED:20251211T130413Z
UID:510565-1772755200-1772841599@www.mendoza.gob.ar
SUMMARY:Vía Blanca de las Reinas
DESCRIPTION:
URL:https://www.mendoza.gob.ar/evento/desayuno-real-2/
END:VEVENT
BEGIN:VEVENT
DTSTART;VALUE=DATE:20260307
DTEND;VALUE=DATE:20260308
DTSTAMP:20260423T010213
CREATED:20251211T130438Z
LAST-MODIFIED:20251211T130438Z
UID:510568-1772841600-1772927999@www.mendoza.gob.ar
SUMMARY:Carrusel
DESCRIPTION:
URL:https://www.mendoza.gob.ar/evento/carrusel/
END:VEVENT
BEGIN:VEVENT
DTSTART;VALUE=DATE:20260308
DTEND;VALUE=DATE:20260309
DTSTAMP:20260423T010213
CREATED:20251211T130513Z
LAST-MODIFIED:20260307T150004Z
UID:510570-1772928000-1773014399@www.mendoza.gob.ar
SUMMARY:Acto Central (reprogramado)
DESCRIPTION:
URL:https://www.mendoza.gob.ar/evento/acto-central/
END:VEVENT
BEGIN:VEVENT
DTSTART;VALUE=DATE:20260315
DTEND;VALUE=DATE:20260316
DTSTAMP:20260423T010213
CREATED:20251211T130549Z
LAST-MODIFIED:20260311T123537Z
UID:510572-1773532800-1773619199@www.mendoza.gob.ar
SUMMARY:Repetición Acto Central (reprogramado)
DESCRIPTION:
URL:https://www.mendoza.gob.ar/evento/repeticion-acto-central/
END:VEVENT
BEGIN:VEVENT
DTSTART;VALUE=DATE:20260317
DTEND;VALUE=DATE:20260318
DTSTAMP:20260423T010213
CREATED:20251211T130627Z
LAST-MODIFIED:20251211T130627Z
UID:510575-1773705600-1773791999@www.mendoza.gob.ar
SUMMARY:Inauguración de la muestra de Bio Futuro por los 90 años en el ECA
DESCRIPTION:
URL:https://www.mendoza.gob.ar/evento/inauguracion-de-la-muestra-de-bio-futuro-por-los-90-anos-en-el-eca/
END:VEVENT
BEGIN:VEVENT
DTSTART;VALUE=DATE:20260321
DTEND;VALUE=DATE:20260322
DTSTAMP:20260423T010213
CREATED:20251211T130711Z
LAST-MODIFIED:20251211T130711Z
UID:510577-1774051200-1774137599@www.mendoza.gob.ar
SUMMARY:Fiesta provincial del Canto y la Melesca en Junín
DESCRIPTION:
URL:https://www.mendoza.gob.ar/evento/fiesta-provincial-del-canto-y-la-melesca-en-junin/
END:VEVENT
BEGIN:VEVENT
DTSTART;VALUE=DATE:20260328
DTEND;VALUE=DATE:20260329
DTSTAMP:20260423T010213
CREATED:20251211T130951Z
LAST-MODIFIED:20251211T130951Z
UID:510579-1774656000-1774742399@www.mendoza.gob.ar
SUMMARY:Wine Rock
DESCRIPTION:
URL:https://www.mendoza.gob.ar/evento/wine-rock/
END:VEVENT
END:VCALENDAR