BEGIN:VCALENDAR
VERSION:2.0
PRODID:-//Gobierno de Mendoza - ECPv6.15.17.1//NONSGML v1.0//EN
CALSCALE:GREGORIAN
METHOD:PUBLISH
X-WR-CALNAME:Gobierno de Mendoza
X-ORIGINAL-URL:https://www.mendoza.gob.ar
X-WR-CALDESC:Eventos para Gobierno de Mendoza
REFRESH-INTERVAL;VALUE=DURATION:PT1H
X-Robots-Tag:noindex
X-PUBLISHED-TTL:PT1H
BEGIN:VTIMEZONE
TZID:America/Argentina/Mendoza
BEGIN:STANDARD
TZOFFSETFROM:-0300
TZOFFSETTO:-0300
TZNAME:-03
DTSTART:20250101T000000
END:STANDARD
END:VTIMEZONE
BEGIN:VEVENT
DTSTART;VALUE=DATE:20260116
DTEND;VALUE=DATE:20260120
DTSTAMP:20260422T232447
CREATED:20251218T133718Z
LAST-MODIFIED:20260115T124905Z
UID:510629-1768521600-1768867199@www.mendoza.gob.ar
SUMMARY:Encuentro de las Naciones
DESCRIPTION:Junín
URL:https://www.mendoza.gob.ar/evento/encuentro-de-las-naciones/
END:VEVENT
BEGIN:VEVENT
DTSTART;VALUE=DATE:20260117
DTEND;VALUE=DATE:20260118
DTSTAMP:20260422T232447
CREATED:20251125T131614Z
LAST-MODIFIED:20251125T131614Z
UID:510229-1768608000-1768694399@www.mendoza.gob.ar
SUMMARY:Vendimia departamental de Junín
DESCRIPTION:Parque Dueño del Sol
URL:https://www.mendoza.gob.ar/evento/vendimia-departamental-de-junin/
END:VEVENT
END:VCALENDAR