BEGIN:VCALENDAR
VERSION:2.0
PRODID:-//Gobierno de Mendoza - ECPv6.15.17.1//NONSGML v1.0//EN
CALSCALE:GREGORIAN
METHOD:PUBLISH
X-WR-CALNAME:Gobierno de Mendoza
X-ORIGINAL-URL:https://www.mendoza.gob.ar
X-WR-CALDESC:Eventos para Gobierno de Mendoza
REFRESH-INTERVAL;VALUE=DURATION:PT1H
X-Robots-Tag:noindex
X-PUBLISHED-TTL:PT1H
BEGIN:VTIMEZONE
TZID:America/Argentina/Mendoza
BEGIN:STANDARD
TZOFFSETFROM:-0300
TZOFFSETTO:-0300
TZNAME:-03
DTSTART:20250101T000000
END:STANDARD
END:VTIMEZONE
BEGIN:VEVENT
DTSTART;VALUE=DATE:20260107
DTEND;VALUE=DATE:20260112
DTSTAMP:20260422T232516
CREATED:20251218T124956Z
LAST-MODIFIED:20260109T135059Z
UID:510618-1767744000-1768175999@www.mendoza.gob.ar
SUMMARY:Fiesta Nacional del Chivo
DESCRIPTION:7 al 11 de enero. Una celebración que pone en valor la identidad\, la tradición y la cultura malargüina.
URL:https://www.mendoza.gob.ar/evento/fiesta-nacional-del-chivo/
END:VEVENT
BEGIN:VEVENT
DTSTART;VALUE=DATE:20260110
DTEND;VALUE=DATE:20260112
DTSTAMP:20260422T232516
CREATED:20251218T132738Z
LAST-MODIFIED:20260109T135146Z
UID:510624-1768003200-1768175999@www.mendoza.gob.ar
SUMMARY:Festival del Melón y la Sandía
DESCRIPTION:Lavalle
URL:https://www.mendoza.gob.ar/evento/festival-del-melon-y-la-sandia/
END:VEVENT
END:VCALENDAR