BEGIN:VCALENDAR
VERSION:2.0
PRODID:-//Gobierno de Mendoza - ECPv6.15.17.1//NONSGML v1.0//EN
CALSCALE:GREGORIAN
METHOD:PUBLISH
X-ORIGINAL-URL:https://www.mendoza.gob.ar
X-WR-CALDESC:Eventos para Gobierno de Mendoza
REFRESH-INTERVAL;VALUE=DURATION:PT1H
X-Robots-Tag:noindex
X-PUBLISHED-TTL:PT1H
BEGIN:VTIMEZONE
TZID:America/Argentina/Mendoza
BEGIN:STANDARD
TZOFFSETFROM:-0300
TZOFFSETTO:-0300
TZNAME:-03
DTSTART:20240101T000000
END:STANDARD
END:VTIMEZONE
BEGIN:VEVENT
DTSTART;VALUE=DATE:20251219
DTEND;VALUE=DATE:20251220
DTSTAMP:20260423T005941
CREATED:20251120T152750Z
LAST-MODIFIED:20251125T131333Z
UID:510195-1766102400-1766188799@www.mendoza.gob.ar
SUMMARY:Vendimia departamental de Guaymallén
DESCRIPTION:Predio de la Virgen
URL:https://www.mendoza.gob.ar/evento/vendimia-guaymallen/
END:VEVENT
END:VCALENDAR